BEGIN:VCALENDAR
VERSION:2.0
PRODID:-//Scrum Training Institute - ECPv6.15.11//NONSGML v1.0//EN
CALSCALE:GREGORIAN
METHOD:PUBLISH
X-ORIGINAL-URL:https://scrumtraininginstitute.com
X-WR-CALDESC:Events for Scrum Training Institute
REFRESH-INTERVAL;VALUE=DURATION:PT1H
X-Robots-Tag:noindex
X-PUBLISHED-TTL:PT1H
BEGIN:VTIMEZONE
TZID:America/New_York
BEGIN:DAYLIGHT
TZOFFSETFROM:-0500
TZOFFSETTO:-0400
TZNAME:EDT
DTSTART:20220313T070000
END:DAYLIGHT
BEGIN:STANDARD
TZOFFSETFROM:-0400
TZOFFSETTO:-0500
TZNAME:EST
DTSTART:20221106T060000
END:STANDARD
BEGIN:DAYLIGHT
TZOFFSETFROM:-0500
TZOFFSETTO:-0400
TZNAME:EDT
DTSTART:20230312T070000
END:DAYLIGHT
BEGIN:STANDARD
TZOFFSETFROM:-0400
TZOFFSETTO:-0500
TZNAME:EST
DTSTART:20231105T060000
END:STANDARD
BEGIN:DAYLIGHT
TZOFFSETFROM:-0500
TZOFFSETTO:-0400
TZNAME:EDT
DTSTART:20240310T070000
END:DAYLIGHT
BEGIN:STANDARD
TZOFFSETFROM:-0400
TZOFFSETTO:-0500
TZNAME:EST
DTSTART:20241103T060000
END:STANDARD
BEGIN:DAYLIGHT
TZOFFSETFROM:-0500
TZOFFSETTO:-0400
TZNAME:EDT
DTSTART:20250309T070000
END:DAYLIGHT
BEGIN:STANDARD
TZOFFSETFROM:-0400
TZOFFSETTO:-0500
TZNAME:EST
DTSTART:20251102T060000
END:STANDARD
BEGIN:DAYLIGHT
TZOFFSETFROM:-0500
TZOFFSETTO:-0400
TZNAME:EDT
DTSTART:20260308T070000
END:DAYLIGHT
BEGIN:STANDARD
TZOFFSETFROM:-0400
TZOFFSETTO:-0500
TZNAME:EST
DTSTART:20261101T060000
END:STANDARD
END:VTIMEZONE
BEGIN:VTIMEZONE
TZID:Europe/Copenhagen
BEGIN:DAYLIGHT
TZOFFSETFROM:+0100
TZOFFSETTO:+0200
TZNAME:CEST
DTSTART:20230326T010000
END:DAYLIGHT
BEGIN:STANDARD
TZOFFSETFROM:+0200
TZOFFSETTO:+0100
TZNAME:CET
DTSTART:20231029T010000
END:STANDARD
BEGIN:DAYLIGHT
TZOFFSETFROM:+0100
TZOFFSETTO:+0200
TZNAME:CEST
DTSTART:20240331T010000
END:DAYLIGHT
BEGIN:STANDARD
TZOFFSETFROM:+0200
TZOFFSETTO:+0100
TZNAME:CET
DTSTART:20241027T010000
END:STANDARD
BEGIN:DAYLIGHT
TZOFFSETFROM:+0100
TZOFFSETTO:+0200
TZNAME:CEST
DTSTART:20250330T010000
END:DAYLIGHT
BEGIN:STANDARD
TZOFFSETFROM:+0200
TZOFFSETTO:+0100
TZNAME:CET
DTSTART:20251026T010000
END:STANDARD
END:VTIMEZONE
BEGIN:VEVENT
DTSTART;TZID=America/New_York:20250807T083000
DTEND;TZID=America/New_York:20250808T163000
DTSTAMP:20260422T054308
CREATED:20250305T132532Z
LAST-MODIFIED:20250731T094534Z
UID:17426-1754555400-1754670600@scrumtraininginstitute.com
SUMMARY:CSM Certified Scrum Master | Orlando (Lake Nona)\, FL | Aug 7-8\, 2025
DESCRIPTION:
URL:https://scrumtraininginstitute.com/scrum-training/csm-certified-scrum-master-orlando-lake-nona-fl-august-7-8-2025/
LOCATION:Hampton Inn & Home2 Suites Orlando\, 10002 Eagle Creek Sanctuary Blvd\, Orlando\, FL\, 32823\, United States
CATEGORIES:CSM - Certified Scrum Master Training
ATTACH;FMTTYPE=image/jpeg:https://scrumtraininginstitute.com/wp-content/uploads/2018/04/csm-scrummaster-course.jpg
ORGANIZER;CN="Jens Ostergaard":MAILTO:webinars@scrumtraininginstitute.com
END:VEVENT
BEGIN:VEVENT
DTSTART;TZID=America/New_York:20250526T083000
DTEND;TZID=America/New_York:20250527T163000
DTSTAMP:20260422T054308
CREATED:20250106T175014Z
LAST-MODIFIED:20250131T112049Z
UID:17385-1748248200-1748363400@scrumtraininginstitute.com
SUMMARY:CSPO Certified Scrum Product Owner | Copenhagen\, Denmark | May 26-27\, 2025
DESCRIPTION:
URL:https://scrumtraininginstitute.com/scrum-training/cspo-certified-scrum-product-owner-copenhagen-denmark-may-26-27-2025/
LOCATION:Charlottenlund Slot\, Jægersborg Allé 1\, Charlottenlund\, 2920\, Denmark
CATEGORIES:CSPO - Certified Scrum Product Owner
ATTACH;FMTTYPE=image/jpeg:https://scrumtraininginstitute.com/wp-content/uploads/2018/04/cspo-scrum-productowner.jpg
ORGANIZER;CN="Jens Ostergaard":MAILTO:webinars@scrumtraininginstitute.com
END:VEVENT
BEGIN:VEVENT
DTSTART;TZID=America/New_York:20250522T083000
DTEND;TZID=America/New_York:20250523T163000
DTSTAMP:20260422T054308
CREATED:20250106T174706Z
LAST-MODIFIED:20250131T112300Z
UID:17383-1747902600-1748017800@scrumtraininginstitute.com
SUMMARY:CSM Certified Scrum Master | Copenhagen\, Denmark | May 22-23\, 2025
DESCRIPTION:
URL:https://scrumtraininginstitute.com/scrum-training/csm-certified-scrum-master-copenhagen-denmark-may-22-23-2025/
LOCATION:Charlottenlund Slot\, Jægersborg Allé 1\, Charlottenlund\, 2920\, Denmark
CATEGORIES:CSM - Certified Scrum Master Training
ATTACH;FMTTYPE=image/jpeg:https://scrumtraininginstitute.com/wp-content/uploads/2018/04/csm-scrummaster-course.jpg
ORGANIZER;CN="Jens Ostergaard":MAILTO:webinars@scrumtraininginstitute.com
END:VEVENT
BEGIN:VEVENT
DTSTART;TZID=America/New_York:20250421T083000
DTEND;TZID=America/New_York:20250422T163000
DTSTAMP:20260422T054308
CREATED:20250106T173307Z
LAST-MODIFIED:20250106T173307Z
UID:17381-1745224200-1745339400@scrumtraininginstitute.com
SUMMARY:CSPO Certified Scrum Product Owner | Orlando (Lake Nona)\, FL April 21-22\, 2025
DESCRIPTION:
URL:https://scrumtraininginstitute.com/scrum-training/cspo-certified-scrum-product-owner-orlando-lake-nona-fl-april-21-22-2025/
LOCATION:Hampton Inn & Home2 Suites Orlando\, 10002 Eagle Creek Sanctuary Blvd\, Orlando\, FL\, 32823\, United States
CATEGORIES:CSPO - Certified Scrum Product Owner
ATTACH;FMTTYPE=image/jpeg:https://scrumtraininginstitute.com/wp-content/uploads/2018/04/cspo-scrum-productowner.jpg
ORGANIZER;CN="Jens Ostergaard":MAILTO:webinars@scrumtraininginstitute.com
END:VEVENT
BEGIN:VEVENT
DTSTART;TZID=America/New_York:20250414T083000
DTEND;TZID=America/New_York:20250415T163000
DTSTAMP:20260422T054308
CREATED:20250106T172004Z
LAST-MODIFIED:20250331T174809Z
UID:17379-1744619400-1744734600@scrumtraininginstitute.com
SUMMARY:CSM Certified Scrum Master | Orlando (Lake Nona)\, FL | April 14-15\, 2025
DESCRIPTION:
URL:https://scrumtraininginstitute.com/scrum-training/csm-certified-scrum-master-orlando-lake-nona-fl-april-14-15-2025/
LOCATION:Hampton Inn & Home2 Suites Orlando\, 10002 Eagle Creek Sanctuary Blvd\, Orlando\, FL\, 32823\, United States
CATEGORIES:CSM - Certified Scrum Master Training
ATTACH;FMTTYPE=image/jpeg:https://scrumtraininginstitute.com/wp-content/uploads/2018/04/csm-scrummaster-course.jpg
ORGANIZER;CN="Jens Ostergaard":MAILTO:webinars@scrumtraininginstitute.com
END:VEVENT
BEGIN:VEVENT
DTSTART;TZID=America/New_York:20250310T083000
DTEND;TZID=America/New_York:20250311T163000
DTSTAMP:20260422T054308
CREATED:20240609T150723Z
LAST-MODIFIED:20240822T142547Z
UID:16870-1741595400-1741710600@scrumtraininginstitute.com
SUMMARY:CSPO Certified Scrum Product Owner | Reykjavik\, Iceland | March | 10-11 | 2025
DESCRIPTION:
URL:https://scrumtraininginstitute.com/scrum-training/cspo-certified-scrum-product-owner-reykjavik-iceland-march-10-11-2025/
LOCATION:Sudurlandsbraut 18  – 108  Reykjavik\, Sudurlandsbraut 18\, Reykjavik\, 108\, Iceland
CATEGORIES:CSPO - Certified Scrum Product Owner
ATTACH;FMTTYPE=image/jpeg:https://scrumtraininginstitute.com/wp-content/uploads/2018/04/cspo-scrum-productowner.jpg
ORGANIZER;CN="Jens Ostergaard":MAILTO:webinars@scrumtraininginstitute.com
END:VEVENT
BEGIN:VEVENT
DTSTART;TZID=America/New_York:20250306T083000
DTEND;TZID=America/New_York:20250307T163000
DTSTAMP:20260422T054308
CREATED:20240609T150025Z
LAST-MODIFIED:20240822T142802Z
UID:16869-1741249800-1741365000@scrumtraininginstitute.com
SUMMARY:CSM Certified Scrum Master | Reykjavik\, Iceland  | March 6-17 | 2025
DESCRIPTION:
URL:https://scrumtraininginstitute.com/scrum-training/csm-certified-scrum-master-reykjavik-iceland-march-6-7-2025/
LOCATION:Akademias Borgartún 23 Reykjavik\, 105 ICELAND\, Borgartún 23\, Borgartún 23\, 105\, Iceland
CATEGORIES:CSM - Certified Scrum Master Training
ATTACH;FMTTYPE=image/jpeg:https://scrumtraininginstitute.com/wp-content/uploads/2018/04/csm-scrummaster-course.jpg
ORGANIZER;CN="Jens Ostergaard":MAILTO:webinars@scrumtraininginstitute.com
END:VEVENT
BEGIN:VEVENT
DTSTART;TZID=America/New_York:20250203T083000
DTEND;TZID=America/New_York:20250204T163000
DTSTAMP:20260422T054308
CREATED:20241107T122812Z
LAST-MODIFIED:20250124T132237Z
UID:17003-1738571400-1738686600@scrumtraininginstitute.com
SUMMARY:CSM Certified Scrum Master | Orlando (Lake Nona)\, FL | February 3-4\, 2025
DESCRIPTION:
URL:https://scrumtraininginstitute.com/scrum-training/csm-certified-scrum-master-orlando-lake-nona-fl-february-3-4-2025/
LOCATION:Hampton Inn & Home2 Suites Orlando\, 10002 Eagle Creek Sanctuary Blvd\, Orlando\, FL\, 32823\, United States
CATEGORIES:CSM - Certified Scrum Master Training
ATTACH;FMTTYPE=image/jpeg:https://scrumtraininginstitute.com/wp-content/uploads/2018/04/csm-scrummaster-course.jpg
ORGANIZER;CN="Jens Ostergaard":MAILTO:webinars@scrumtraininginstitute.com
END:VEVENT
BEGIN:VEVENT
DTSTART;TZID=America/New_York:20250130T083000
DTEND;TZID=America/New_York:20250131T163000
DTSTAMP:20260422T054308
CREATED:20241107T122107Z
LAST-MODIFIED:20241107T122107Z
UID:17001-1738225800-1738341000@scrumtraininginstitute.com
SUMMARY:CSPO Certified Scrum Product Owner | Orlando (Lake Nona)\, FL January 30-31\, 2025
DESCRIPTION:
URL:https://scrumtraininginstitute.com/scrum-training/cspo-certified-scrum-product-owner-orlando-lake-nona-fl-january-39-31-2025/
LOCATION:Hampton Inn & Home2 Suites Orlando\, 10002 Eagle Creek Sanctuary Blvd\, Orlando\, FL\, 32823\, United States
CATEGORIES:CSPO - Certified Scrum Product Owner
ATTACH;FMTTYPE=image/jpeg:https://scrumtraininginstitute.com/wp-content/uploads/2018/04/cspo-scrum-productowner.jpg
ORGANIZER;CN="Jens Ostergaard":MAILTO:webinars@scrumtraininginstitute.com
END:VEVENT
BEGIN:VEVENT
DTSTART;TZID=America/New_York:20250113T083000
DTEND;TZID=America/New_York:20250114T163000
DTSTAMP:20260422T054308
CREATED:20240527T051004Z
LAST-MODIFIED:20241212T132405Z
UID:16856-1736757000-1736872200@scrumtraininginstitute.com
SUMMARY:CSPO Certified Scrum Product Owner | Copenhagen\, Denmark | January 13-14\, 2025
DESCRIPTION:
URL:https://scrumtraininginstitute.com/scrum-training/cspo-certified-scrum-product-owner-copenhagen-denmark-january-13-14-2025/
LOCATION:Charlottenlund Slot\, Jægersborg Allé 1\, Charlottenlund\, 2920\, Denmark
CATEGORIES:CSPO - Certified Scrum Product Owner
ATTACH;FMTTYPE=image/jpeg:https://scrumtraininginstitute.com/wp-content/uploads/2018/04/cspo-scrum-productowner.jpg
ORGANIZER;CN="Jens Ostergaard":MAILTO:webinars@scrumtraininginstitute.com
END:VEVENT
BEGIN:VEVENT
DTSTART;TZID=America/New_York:20250109T083000
DTEND;TZID=America/New_York:20250110T163000
DTSTAMP:20260422T054308
CREATED:20240527T050242Z
LAST-MODIFIED:20241212T145755Z
UID:16855-1736411400-1736526600@scrumtraininginstitute.com
SUMMARY:CSM Certified Scrum Master | Copenhagen\, Denmark | January 9-10\, 2025
DESCRIPTION:
URL:https://scrumtraininginstitute.com/scrum-training/csm-certified-scrum-master-copenhagen-denmark-january-09-10-2025/
LOCATION:Charlottenlund Slot\, Jægersborg Allé 1\, Charlottenlund\, 2920\, Denmark
CATEGORIES:CSM - Certified Scrum Master Training
ATTACH;FMTTYPE=image/jpeg:https://scrumtraininginstitute.com/wp-content/uploads/2018/04/csm-scrummaster-course.jpg
ORGANIZER;CN="Jens Ostergaard":MAILTO:webinars@scrumtraininginstitute.com
END:VEVENT
BEGIN:VEVENT
DTSTART;TZID=America/New_York:20241211T083000
DTEND;TZID=America/New_York:20241212T163000
DTSTAMP:20260422T054308
CREATED:20240910T092835Z
LAST-MODIFIED:20240910T092835Z
UID:16924-1733905800-1734021000@scrumtraininginstitute.com
SUMMARY:CSM Certified Scrum Master | Orlando (Lake Nona)\, FL | December 11-12\, 2024
DESCRIPTION:
URL:https://scrumtraininginstitute.com/scrum-training/csm-certified-scrum-master-orlando-lake-nona-fl-december-11-12-2024/
LOCATION:Hampton Inn & Home2 Suites Orlando\, 10002 Eagle Creek Sanctuary Blvd\, Orlando\, FL\, 32823\, United States
CATEGORIES:CSM - Certified Scrum Master Training
ATTACH;FMTTYPE=image/jpeg:https://scrumtraininginstitute.com/wp-content/uploads/2018/04/csm-scrummaster-course.jpg
ORGANIZER;CN="Jens Ostergaard":MAILTO:webinars@scrumtraininginstitute.com
END:VEVENT
BEGIN:VEVENT
DTSTART;TZID=America/New_York:20241114T083000
DTEND;TZID=America/New_York:20241115T163000
DTSTAMP:20260422T054308
CREATED:20240210T143854Z
LAST-MODIFIED:20240822T135158Z
UID:16743-1731573000-1731688200@scrumtraininginstitute.com
SUMMARY:CSPO Certified Scrum Product Owner | Orlando (Lake Nona)\, FL November 14-15\, 2024
DESCRIPTION:
URL:https://scrumtraininginstitute.com/scrum-training/cspo-certified-scrum-product-owner-orlando-lake-nona-fl-november-14-15-2024/
LOCATION:Hampton Inn & Home2 Suites Orlando\, 10002 Eagle Creek Sanctuary Blvd\, Orlando\, FL\, 32823\, United States
CATEGORIES:CSPO - Certified Scrum Product Owner
ATTACH;FMTTYPE=image/jpeg:https://scrumtraininginstitute.com/wp-content/uploads/2018/04/cspo-scrum-productowner.jpg
ORGANIZER;CN="Jens Ostergaard":MAILTO:webinars@scrumtraininginstitute.com
END:VEVENT
BEGIN:VEVENT
DTSTART;TZID=America/New_York:20241024T083000
DTEND;TZID=America/New_York:20241025T163000
DTSTAMP:20260422T054308
CREATED:20240501T181419Z
LAST-MODIFIED:20241007T213005Z
UID:16836-1729758600-1729873800@scrumtraininginstitute.com
SUMMARY:CSM Certified Scrum Master | Orlando (Lake Nona)\, FL | October 24-25\, 2024
DESCRIPTION:
URL:https://scrumtraininginstitute.com/scrum-training/csm-certified-scrum-master-orlando-lake-nona-fl-october-24-25-2024/
LOCATION:Hampton Inn & Home2 Suites Orlando\, 10002 Eagle Creek Sanctuary Blvd\, Orlando\, FL\, 32823\, United States
CATEGORIES:CSM - Certified Scrum Master Training
ATTACH;FMTTYPE=image/jpeg:https://scrumtraininginstitute.com/wp-content/uploads/2018/04/csm-scrummaster-course.jpg
ORGANIZER;CN="Jens Ostergaard":MAILTO:webinars@scrumtraininginstitute.com
END:VEVENT
BEGIN:VEVENT
DTSTART;TZID=America/New_York:20240822T083000
DTEND;TZID=America/New_York:20240823T163000
DTSTAMP:20260422T054308
CREATED:20240424T114831Z
LAST-MODIFIED:20240424T114831Z
UID:16824-1724315400-1724430600@scrumtraininginstitute.com
SUMMARY:CSPO Certified Scrum Product Owner | Orlando (Lake Nona)\, FL August 22-23\, 2024
DESCRIPTION:
URL:https://scrumtraininginstitute.com/scrum-training/cspo-certified-scrum-product-owner-orlando-lake-nona-fl-august-22-23-2024/
LOCATION:Hampton Inn & Home2 Suites Orlando\, 10002 Eagle Creek Sanctuary Blvd\, Orlando\, FL\, 32823\, United States
CATEGORIES:CSPO - Certified Scrum Product Owner
ATTACH;FMTTYPE=image/jpeg:https://scrumtraininginstitute.com/wp-content/uploads/2018/04/cspo-scrum-productowner.jpg
ORGANIZER;CN="Jens Ostergaard":MAILTO:webinars@scrumtraininginstitute.com
END:VEVENT
BEGIN:VEVENT
DTSTART;TZID=America/New_York:20240815T083000
DTEND;TZID=America/New_York:20240816T163000
DTSTAMP:20260422T054308
CREATED:20240423T214835Z
LAST-MODIFIED:20240720T191813Z
UID:16822-1723710600-1723825800@scrumtraininginstitute.com
SUMMARY:CSM Certified Scrum Master | Orlando (Lake Nona)\, FL | August 15-16\, 2024
DESCRIPTION:
URL:https://scrumtraininginstitute.com/scrum-training/csm-certified-scrum-master-orlando-lake-nona-fl-august-15-16-2024/
LOCATION:Hampton Inn & Home2 Suites Orlando\, 10002 Eagle Creek Sanctuary Blvd\, Orlando\, FL\, 32823\, United States
CATEGORIES:CSM - Certified Scrum Master Training
ATTACH;FMTTYPE=image/jpeg:https://scrumtraininginstitute.com/wp-content/uploads/2018/04/csm-scrummaster-course.jpg
ORGANIZER;CN="Jens Ostergaard":MAILTO:webinars@scrumtraininginstitute.com
END:VEVENT
BEGIN:VEVENT
DTSTART;TZID=America/New_York:20240603T083000
DTEND;TZID=America/New_York:20240604T163000
DTSTAMP:20260422T054308
CREATED:20240210T184909Z
LAST-MODIFIED:20240305T203151Z
UID:16752-1717403400-1717518600@scrumtraininginstitute.com
SUMMARY:CSPO Certified Scrum Product Owner | Reykjavik\, Iceland | June 3-4\, 2024
DESCRIPTION:
URL:https://scrumtraininginstitute.com/scrum-training/cspo-certified-scrum-product-owner-reykjavik-iceland-june-3-4-2024/
LOCATION:Sudurlandsbraut 18  – 108  Reykjavik\, Sudurlandsbraut 18\, Reykjavik\, 108\, Iceland
CATEGORIES:CSPO - Certified Scrum Product Owner
ATTACH;FMTTYPE=image/jpeg:https://scrumtraininginstitute.com/wp-content/uploads/2018/04/cspo-scrum-productowner.jpg
ORGANIZER;CN="Jens Ostergaard":MAILTO:webinars@scrumtraininginstitute.com
END:VEVENT
BEGIN:VEVENT
DTSTART;TZID=America/New_York:20240528T083000
DTEND;TZID=America/New_York:20240529T163000
DTSTAMP:20260422T054308
CREATED:20240210T183043Z
LAST-MODIFIED:20240305T203045Z
UID:16751-1716885000-1717000200@scrumtraininginstitute.com
SUMMARY:CSM Certified Scrum Master | Reykjavik\, Iceland  | May 28-29\, 2024
DESCRIPTION:
URL:https://scrumtraininginstitute.com/scrum-training/csm-certified-scrum-master-reykjavik-iceland-may-28-29-2024/
LOCATION:Akademias Borgartún 23 Reykjavik\, 105 ICELAND\, Borgartún 23\, Borgartún 23\, 105\, Iceland
CATEGORIES:CSM - Certified Scrum Master Training
ATTACH;FMTTYPE=image/jpeg:https://scrumtraininginstitute.com/wp-content/uploads/2018/04/csm-scrummaster-course.jpg
ORGANIZER;CN="Jens Ostergaard":MAILTO:webinars@scrumtraininginstitute.com
END:VEVENT
BEGIN:VEVENT
DTSTART;TZID=America/New_York:20240521T083000
DTEND;TZID=America/New_York:20240522T163000
DTSTAMP:20260422T054308
CREATED:20240211T151448Z
LAST-MODIFIED:20240423T222258Z
UID:16756-1716280200-1716395400@scrumtraininginstitute.com
SUMMARY:CSPO Certified Scrum Product Owner | Copenhagen\, Denmark | May 21-22\, 2024
DESCRIPTION:
URL:https://scrumtraininginstitute.com/scrum-training/cspo-certified-scrum-product-owner-copenhagen-denmark-may-21-22-2024/
LOCATION:Charlottenlund Slot\, Jægersborg Allé 1\, Charlottenlund\, 2920\, Denmark
CATEGORIES:CSPO - Certified Scrum Product Owner
ATTACH;FMTTYPE=image/jpeg:https://scrumtraininginstitute.com/wp-content/uploads/2018/04/cspo-scrum-productowner.jpg
ORGANIZER;CN="Jens Ostergaard":MAILTO:webinars@scrumtraininginstitute.com
END:VEVENT
BEGIN:VEVENT
DTSTART;TZID=America/New_York:20240516T083000
DTEND;TZID=America/New_York:20240517T163000
DTSTAMP:20260422T054308
CREATED:20240211T135938Z
LAST-MODIFIED:20240417T120347Z
UID:16753-1715848200-1715963400@scrumtraininginstitute.com
SUMMARY:CSM Certified Scrum Master | Copenhagen\, Denmark | May 16-17\, 2024
DESCRIPTION:
URL:https://scrumtraininginstitute.com/scrum-training/csm-certified-scrum-master-denmark-copenhagen-may-16-17-2024/
LOCATION:Charlottenlund Slot\, Jægersborg Allé 1\, Charlottenlund\, 2920\, Denmark
CATEGORIES:CSM - Certified Scrum Master Training
ATTACH;FMTTYPE=image/jpeg:https://scrumtraininginstitute.com/wp-content/uploads/2018/04/csm-scrummaster-course.jpg
ORGANIZER;CN="Jens Ostergaard":MAILTO:webinars@scrumtraininginstitute.com
END:VEVENT
BEGIN:VEVENT
DTSTART;TZID=America/New_York:20240422T083000
DTEND;TZID=America/New_York:20240423T163000
DTSTAMP:20260422T054308
CREATED:20240210T151615Z
LAST-MODIFIED:20240406T221330Z
UID:16747-1713774600-1713889800@scrumtraininginstitute.com
SUMMARY:CSM Certified Scrum Master | Orlando (Lake Nona)\, FL | April 22-23\, 2024
DESCRIPTION:
URL:https://scrumtraininginstitute.com/scrum-training/csm-certified-scrum-master-orlando-eagle-creek-fl-april-22-23-2024/
LOCATION:Hampton Inn & Home2 Suites Orlando\, 10002 Eagle Creek Sanctuary Blvd\, Orlando\, FL\, 32823\, United States
CATEGORIES:CSM - Certified Scrum Master Training
ATTACH;FMTTYPE=image/jpeg:https://scrumtraininginstitute.com/wp-content/uploads/2018/04/csm-scrummaster-course.jpg
ORGANIZER;CN="Jens Ostergaard":MAILTO:webinars@scrumtraininginstitute.com
END:VEVENT
BEGIN:VEVENT
DTSTART;TZID=Europe/Copenhagen:20240304T090000
DTEND;TZID=Europe/Copenhagen:20240304T170000
DTSTAMP:20260422T054308
CREATED:20231113T104530Z
LAST-MODIFIED:20240306T165434Z
UID:16646-1709542800-1709571600@scrumtraininginstitute.com
SUMMARY:Agility & AI | Liverpool\, United Kingdom | March 4\, 2024
DESCRIPTION:
URL:https://scrumtraininginstitute.com/scrum-training/agility-ai-liverpool-united-kingdom-march-4-2024/
LOCATION:Bristol\, TBA\, Bristol\, United Kingdom
CATEGORIES:Scrum & AI
ATTACH;FMTTYPE=image/jpeg:https://scrumtraininginstitute.com/wp-content/uploads/2023/10/ScrumAI-2.jpg
ORGANIZER;CN="Tim Robinson":MAILTO:tim@agilist.co.uk
END:VEVENT
BEGIN:VEVENT
DTSTART;TZID=America/New_York:20240222T083000
DTEND;TZID=America/New_York:20240223T163000
DTSTAMP:20260422T054308
CREATED:20230926T073125Z
LAST-MODIFIED:20240215T153614Z
UID:16472-1708590600-1708705800@scrumtraininginstitute.com
SUMMARY:CSPO Certified Scrum Product Owner | Orlando (Lake Nona)\, FL Feb 22-23\, 2024
DESCRIPTION:
URL:https://scrumtraininginstitute.com/scrum-training/cspo-certified-scrum-product-owner-orlando-lake-nona-fl-february-22-23-2024/
LOCATION:Hampton Inn & Home2 Suites Orlando\, 10002 Eagle Creek Sanctuary Blvd\, Orlando\, FL\, 32823\, United States
CATEGORIES:CSPO - Certified Scrum Product Owner
ATTACH;FMTTYPE=image/jpeg:https://scrumtraininginstitute.com/wp-content/uploads/2018/04/cspo-scrum-productowner.jpg
ORGANIZER;CN="Jens Ostergaard":MAILTO:webinars@scrumtraininginstitute.com
END:VEVENT
BEGIN:VEVENT
DTSTART;TZID=America/New_York:20240215T083000
DTEND;TZID=America/New_York:20240216T163000
DTSTAMP:20260422T054308
CREATED:20230926T073529Z
LAST-MODIFIED:20240208T213807Z
UID:16473-1707985800-1708101000@scrumtraininginstitute.com
SUMMARY:CSM Certified Scrum Master | Orlando (Lake Nona)\, FL | February 15-16\, 2024
DESCRIPTION:
URL:https://scrumtraininginstitute.com/scrum-training/csm-certified-scrum-master-orlando-lake-nona-fl-february-15-16-2024/
LOCATION:Hampton Inn & Home2 Suites Orlando\, 10002 Eagle Creek Sanctuary Blvd\, Orlando\, FL\, 32823\, United States
CATEGORIES:CSM - Certified Scrum Master Training
ATTACH;FMTTYPE=image/jpeg:https://scrumtraininginstitute.com/wp-content/uploads/2018/04/csm-scrummaster-course.jpg
ORGANIZER;CN="Jens Ostergaard":MAILTO:webinars@scrumtraininginstitute.com
END:VEVENT
BEGIN:VEVENT
DTSTART;TZID=Europe/Copenhagen:20240122T083000
DTEND;TZID=Europe/Copenhagen:20240123T163000
DTSTAMP:20260422T054308
CREATED:20230723T203235Z
LAST-MODIFIED:20240208T213439Z
UID:16437-1705912200-1706027400@scrumtraininginstitute.com
SUMMARY:CSPO Certified Scrum Product Owner | Copenhagen\, Denmark | Jan 22-23\, 2024
DESCRIPTION:
URL:https://scrumtraininginstitute.com/scrum-training/cspo-certified-scrum-product-owner-copenhagen-denmark-jan-22-23-2024/
LOCATION:Hotel Lautrup Park\, Borupvang 2\, Ballerup\, 2750\, Denmark
CATEGORIES:CSPO - Certified Scrum Product Owner
ATTACH;FMTTYPE=image/jpeg:https://scrumtraininginstitute.com/wp-content/uploads/2018/04/scrum-product-owner-course.jpg
ORGANIZER;CN="Jens Ostergaard":MAILTO:webinars@scrumtraininginstitute.com
END:VEVENT
BEGIN:VEVENT
DTSTART;TZID=Europe/Copenhagen:20240118T083000
DTEND;TZID=Europe/Copenhagen:20240119T163000
DTSTAMP:20260422T054308
CREATED:20230926T054029Z
LAST-MODIFIED:20240208T213127Z
UID:16469-1705566600-1705681800@scrumtraininginstitute.com
SUMMARY:CSM Certified Scrum Master | Copenhagen\, Denmark | January 18-19\, 2024
DESCRIPTION:
URL:https://scrumtraininginstitute.com/scrum-training/csm-certified-scrum-master-copenhagen-denmark-january-18-19-2024/
LOCATION:Hotel Lautrup Park\, Borupvang 2\, Ballerup\, 2750\, Denmark
CATEGORIES:CSM - Certified Scrum Master Training
ATTACH;FMTTYPE=image/jpeg:https://scrumtraininginstitute.com/wp-content/uploads/2018/04/csm-certified-scrum-master-course.jpg
ORGANIZER;CN="Jens Ostergaard":MAILTO:webinars@scrumtraininginstitute.com
END:VEVENT
BEGIN:VEVENT
DTSTART;TZID=Europe/Copenhagen:20240115T090000
DTEND;TZID=Europe/Copenhagen:20240115T170000
DTSTAMP:20260422T054308
CREATED:20231002T073605Z
LAST-MODIFIED:20231221T172916Z
UID:16493-1705309200-1705338000@scrumtraininginstitute.com
SUMMARY:Scrum & AI | Copenhagen\, Denmark | January 15\, 2024
DESCRIPTION:
URL:https://scrumtraininginstitute.com/scrum-training/scrum-and-ai-aarhus-denmark-january-15-2024/
LOCATION:Hotel Lautrup Park\, Borupvang 2\, Ballerup\, 2750\, Denmark
CATEGORIES:Scrum & AI
ATTACH;FMTTYPE=image/jpeg:https://scrumtraininginstitute.com/wp-content/uploads/2023/10/ScrumAI-2.jpg
ORGANIZER;CN="Jens Ostergaard":MAILTO:webinars@scrumtraininginstitute.com
END:VEVENT
BEGIN:VEVENT
DTSTART;TZID=Europe/Copenhagen:20240108T083000
DTEND;TZID=Europe/Copenhagen:20240109T163000
DTSTAMP:20260422T054308
CREATED:20230926T042440Z
LAST-MODIFIED:20240101T105544Z
UID:16461-1704702600-1704817800@scrumtraininginstitute.com
SUMMARY:CSM Certified Scrum Master | Aarhus\, Denmark | January 8-9\, 2024
DESCRIPTION:
URL:https://scrumtraininginstitute.com/scrum-training/csm-certified-scrum-master-aarhus-denmark-january-8-9-2024/
LOCATION:Ecopark\, Bautavej 1A\, Aarhus V\, 8210\, Denmark
CATEGORIES:CSM - Certified Scrum Master Training
ATTACH;FMTTYPE=image/png:https://scrumtraininginstitute.com/wp-content/uploads/2018/04/csm-certified-training.png
ORGANIZER;CN="Jens Ostergaard":MAILTO:webinars@scrumtraininginstitute.com
END:VEVENT
BEGIN:VEVENT
DTSTART;TZID=America/New_York:20231030T083000
DTEND;TZID=America/New_York:20231031T163000
DTSTAMP:20260422T054308
CREATED:20230228T222009Z
LAST-MODIFIED:20230926T074908Z
UID:16271-1698654600-1698769800@scrumtraininginstitute.com
SUMMARY:CSPO Certified Scrum Product Owner | Orlando (Lake Nona)\, FL October 30-31\, 2023
DESCRIPTION:
URL:https://scrumtraininginstitute.com/scrum-training/cspo-certified-scrum-product-owner-orlando-lake-nona-fl-october-30-31-2023/
LOCATION:Courtyard by Marriott Orlando Lake Nona\, 6955 Lake Nona Blvd\, Orlando\, FL\, 32827-7560\, United States
CATEGORIES:CSPO - Certified Scrum Product Owner
ATTACH;FMTTYPE=image/jpeg:https://scrumtraininginstitute.com/wp-content/uploads/2018/04/cspo-scrum-productowner.jpg
ORGANIZER;CN="Jens Ostergaard":MAILTO:webinars@scrumtraininginstitute.com
END:VEVENT
BEGIN:VEVENT
DTSTART;TZID=America/New_York:20231026T083000
DTEND;TZID=America/New_York:20231027T163000
DTSTAMP:20260422T054308
CREATED:20230516T145501Z
LAST-MODIFIED:20230926T074957Z
UID:16367-1698309000-1698424200@scrumtraininginstitute.com
SUMMARY:CSM Certified Scrum Master | Orlando (Lake Nona)\, FL | October 26-27\, 2023 -- Copy
DESCRIPTION:
URL:https://scrumtraininginstitute.com/scrum-training/csm-certified-scrum-master-orlando-lake-nona-fl-october-26-27-2023/
LOCATION:Courtyard by Marriott Orlando Lake Nona\, 6955 Lake Nona Blvd\, Orlando\, FL\, 32827-7560\, United States
CATEGORIES:CSM - Certified Scrum Master Training
ATTACH;FMTTYPE=image/jpeg:https://scrumtraininginstitute.com/wp-content/uploads/2018/04/csm-scrummaster-course.jpg
ORGANIZER;CN="Jens Ostergaard":MAILTO:webinars@scrumtraininginstitute.com
END:VEVENT
END:VCALENDAR